BEGIN:VCALENDAR
VERSION:2.0
PRODID:-//Aurora Borealis - Shoreline, WA - ECPv6.15.20//NONSGML v1.0//EN
CALSCALE:GREGORIAN
METHOD:PUBLISH
X-ORIGINAL-URL:https://borealisonaurora.com
X-WR-CALDESC:Events for Aurora Borealis - Shoreline, WA
REFRESH-INTERVAL;VALUE=DURATION:PT1H
X-Robots-Tag:noindex
X-PUBLISHED-TTL:PT1H
BEGIN:VTIMEZONE
TZID:America/Los_Angeles
BEGIN:DAYLIGHT
TZOFFSETFROM:-0800
TZOFFSETTO:-0700
TZNAME:PDT
DTSTART:20250309T100000
END:DAYLIGHT
BEGIN:STANDARD
TZOFFSETFROM:-0700
TZOFFSETTO:-0800
TZNAME:PST
DTSTART:20251102T090000
END:STANDARD
BEGIN:DAYLIGHT
TZOFFSETFROM:-0800
TZOFFSETTO:-0700
TZNAME:PDT
DTSTART:20260308T100000
END:DAYLIGHT
BEGIN:STANDARD
TZOFFSETFROM:-0700
TZOFFSETTO:-0800
TZNAME:PST
DTSTART:20261101T090000
END:STANDARD
BEGIN:DAYLIGHT
TZOFFSETFROM:-0800
TZOFFSETTO:-0700
TZNAME:PDT
DTSTART:20270314T100000
END:DAYLIGHT
BEGIN:STANDARD
TZOFFSETFROM:-0700
TZOFFSETTO:-0800
TZNAME:PST
DTSTART:20271107T090000
END:STANDARD
END:VTIMEZONE
BEGIN:VEVENT
DTSTART;TZID=America/Los_Angeles:20260523T200000
DTEND;TZID=America/Los_Angeles:20260523T230000
DTSTAMP:20260421T134039
CREATED:20260414T154110Z
LAST-MODIFIED:20260414T203754Z
UID:45540-1779566400-1779577200@borealisonaurora.com
SUMMARY:Dark Wave Mixtape & BRUJA / DJ J.Q.
DESCRIPTION:Doors 7pm | Show 8pm | 21+ \nTickets:• $12.50 (+ taxes & fees) – General Admission Advanced• $20 (+ taxes & fees) – Day of Show \nPurchase tickets on Eventbrite here. \n\n\nBack by demand—DARK DANSE PARTY! Live Dark Wave Mixtape + BRUJA / DJ J.Q. spinning dark hits. \n\n\n\n\nMark the date—another DARK DANSE PARTY is taking over Aurora Borealis. \nDark Wave Mixtape returns delivering the sounds that define the darkwave scene. Between sets\, Seattle favorites BRUJA/DJ J.Q. keep the night moving with a mix of dark electronic and industrial hits built for the dance floor. \nIf you were at the Day of the Dead / Halloween show\, you already know—this night fills up fast and the energy doesn’t let up. \nDress dark\, bring your crew\, and come ready to move. This one’s for the DARKLINGS.
URL:https://borealisonaurora.com/event/dark-wave-mixtape-bruja-dj-j-q/
LOCATION:Aurora Borealis Event Center\, 16708 Aurora Avenue North\, Shoreline\, WA\, 98133\, United States
CATEGORIES:DJ,EDM,Live Entertainment,Live Music,rock
ATTACH;FMTTYPE=image/jpeg:https://borealisonaurora.com/wp-content/uploads/2026/04/658326272_122177128370672563_7577949787128958446_n.jpg
END:VEVENT
END:VCALENDAR