BEGIN:VCALENDAR
VERSION:2.0
PRODID:-//Aurora Borealis - Shoreline, WA - ECPv6.15.20//NONSGML v1.0//EN
CALSCALE:GREGORIAN
METHOD:PUBLISH
X-ORIGINAL-URL:https://borealisonaurora.com
X-WR-CALDESC:Events for Aurora Borealis - Shoreline, WA
REFRESH-INTERVAL;VALUE=DURATION:PT1H
X-Robots-Tag:noindex
X-PUBLISHED-TTL:PT1H
BEGIN:VTIMEZONE
TZID:America/Los_Angeles
BEGIN:DAYLIGHT
TZOFFSETFROM:-0800
TZOFFSETTO:-0700
TZNAME:PDT
DTSTART:20240310T100000
END:DAYLIGHT
BEGIN:STANDARD
TZOFFSETFROM:-0700
TZOFFSETTO:-0800
TZNAME:PST
DTSTART:20241103T090000
END:STANDARD
BEGIN:DAYLIGHT
TZOFFSETFROM:-0800
TZOFFSETTO:-0700
TZNAME:PDT
DTSTART:20250309T100000
END:DAYLIGHT
BEGIN:STANDARD
TZOFFSETFROM:-0700
TZOFFSETTO:-0800
TZNAME:PST
DTSTART:20251102T090000
END:STANDARD
BEGIN:DAYLIGHT
TZOFFSETFROM:-0800
TZOFFSETTO:-0700
TZNAME:PDT
DTSTART:20260308T100000
END:DAYLIGHT
BEGIN:STANDARD
TZOFFSETFROM:-0700
TZOFFSETTO:-0800
TZNAME:PST
DTSTART:20261101T090000
END:STANDARD
END:VTIMEZONE
BEGIN:VEVENT
DTSTART;TZID=America/Los_Angeles:20251106T203000
DTEND;TZID=America/Los_Angeles:20251106T203000
DTSTAMP:20260422T105553
CREATED:20250923T223225Z
LAST-MODIFIED:20250923T223225Z
UID:44424-1762461000-1762461000@borealisonaurora.com
SUMMARY:Salsa - Bachata - Merengue - Cumbia
DESCRIPTION:Doors 8pm\n\nJoin us for social dancing at the Aurora Borealis Event Center in Shoreline with rotating guest DJs.\n8:30 – 9:30 pm – Class with Maestro Papa Sergio. No partner required.\nDancing until midnight\n$10 cover at the door\nAges 21+ after 10 pm\nFree Parking
URL:https://borealisonaurora.com/event/salsa-bachata-merengue-cumbia-5/
LOCATION:Aurora Borealis Event Center\, 16708 Aurora Avenue North\, Shoreline\, WA\, 98133\, United States
CATEGORIES:Bachata,Ladies Night,Live Entertainment,Merengue,Salsa
ATTACH;FMTTYPE=image/png:https://borealisonaurora.com/wp-content/uploads/2023/09/Thursday-Flyer-new.png
END:VEVENT
BEGIN:VEVENT
DTSTART;TZID=America/Los_Angeles:20251113T203000
DTEND;TZID=America/Los_Angeles:20251113T203000
DTSTAMP:20260422T105553
CREATED:20250923T223306Z
LAST-MODIFIED:20250923T223306Z
UID:44426-1763065800-1763065800@borealisonaurora.com
SUMMARY:Salsa - Bachata - Merengue - Cumbia
DESCRIPTION:Doors 8pm\n\nJoin us for social dancing at the Aurora Borealis Event Center in Shoreline with rotating guest DJs.\n8:30 – 9:30 pm – Class with Maestro Papa Sergio. No partner required.\nDancing until midnight\n$10 cover at the door\nAges 21+ after 10 pm\nFree Parking
URL:https://borealisonaurora.com/event/salsa-bachata-merengue-cumbia-6/
LOCATION:Aurora Borealis Event Center\, 16708 Aurora Avenue North\, Shoreline\, WA\, 98133\, United States
CATEGORIES:Bachata,Ladies Night,Live Entertainment,Merengue,Salsa
ATTACH;FMTTYPE=image/png:https://borealisonaurora.com/wp-content/uploads/2023/09/Thursday-Flyer-new.png
END:VEVENT
BEGIN:VEVENT
DTSTART;TZID=America/Los_Angeles:20251120T203000
DTEND;TZID=America/Los_Angeles:20251120T203000
DTSTAMP:20260422T105553
CREATED:20250929T201348Z
LAST-MODIFIED:20250929T201348Z
UID:44492-1763670600-1763670600@borealisonaurora.com
SUMMARY:Salsa - Bachata - Merengue - Cumbia
DESCRIPTION:Doors 8pm\n\nJoin us for social dancing at the Aurora Borealis Event Center in Shoreline with rotating guest DJs.\n8:30 – 9:30 pm – Class with Maestro Papa Sergio. No partner required.\nDancing until midnight\n$10 cover at the door\nAges 21+ after 10 pm\nFree Parking
URL:https://borealisonaurora.com/event/salsa-bachata-merengue-cumbia-7/
LOCATION:Aurora Borealis Event Center\, 16708 Aurora Avenue North\, Shoreline\, WA\, 98133\, United States
CATEGORIES:Bachata,Ladies Night,Live Entertainment,Merengue,Salsa
ATTACH;FMTTYPE=image/png:https://borealisonaurora.com/wp-content/uploads/2023/09/Thursday-Flyer-new.png
END:VEVENT
END:VCALENDAR