BEGIN:VCALENDAR
VERSION:2.0
PRODID:-//Aurora Borealis - Shoreline, WA - ECPv6.15.20//NONSGML v1.0//EN
CALSCALE:GREGORIAN
METHOD:PUBLISH
X-ORIGINAL-URL:https://borealisonaurora.com
X-WR-CALDESC:Events for Aurora Borealis - Shoreline, WA
REFRESH-INTERVAL;VALUE=DURATION:PT1H
X-Robots-Tag:noindex
X-PUBLISHED-TTL:PT1H
BEGIN:VTIMEZONE
TZID:America/Los_Angeles
BEGIN:DAYLIGHT
TZOFFSETFROM:-0800
TZOFFSETTO:-0700
TZNAME:PDT
DTSTART:20250309T100000
END:DAYLIGHT
BEGIN:STANDARD
TZOFFSETFROM:-0700
TZOFFSETTO:-0800
TZNAME:PST
DTSTART:20251102T090000
END:STANDARD
BEGIN:DAYLIGHT
TZOFFSETFROM:-0800
TZOFFSETTO:-0700
TZNAME:PDT
DTSTART:20260308T100000
END:DAYLIGHT
BEGIN:STANDARD
TZOFFSETFROM:-0700
TZOFFSETTO:-0800
TZNAME:PST
DTSTART:20261101T090000
END:STANDARD
BEGIN:DAYLIGHT
TZOFFSETFROM:-0800
TZOFFSETTO:-0700
TZNAME:PDT
DTSTART:20270314T100000
END:DAYLIGHT
BEGIN:STANDARD
TZOFFSETFROM:-0700
TZOFFSETTO:-0800
TZNAME:PST
DTSTART:20271107T090000
END:STANDARD
END:VTIMEZONE
BEGIN:VEVENT
DTSTART;TZID=America/Los_Angeles:20260305T203000
DTEND;TZID=America/Los_Angeles:20260305T203000
DTSTAMP:20260422T043739
CREATED:20260202T231352Z
LAST-MODIFIED:20260202T231352Z
UID:45166-1772742600-1772742600@borealisonaurora.com
SUMMARY:Salsa - Bachata - Merengue - Cumbia
DESCRIPTION:Doors 8pm\n\nJoin us for social dancing at the Aurora Borealis Event Center in Shoreline with rotating guest DJs.\n8:30 – 9:30 pm – Class with Maestro Papa Sergio. No partner required.\nDancing until midnight\n$10 cover at the door\nAges 21+ after 10 pm\nFree Parking
URL:https://borealisonaurora.com/event/salsa-bachata-merengue-cumbia-18/
LOCATION:Aurora Borealis Event Center\, 16708 Aurora Avenue North\, Shoreline\, WA\, 98133\, United States
CATEGORIES:Bachata,Ladies Night,Live Entertainment,Merengue,Salsa
ATTACH;FMTTYPE=image/png:https://borealisonaurora.com/wp-content/uploads/2023/09/Thursday-Flyer-new.png
END:VEVENT
BEGIN:VEVENT
DTSTART;TZID=America/Los_Angeles:20260312T203000
DTEND;TZID=America/Los_Angeles:20260312T203000
DTSTAMP:20260422T043739
CREATED:20260114T171615Z
LAST-MODIFIED:20260114T171639Z
UID:45073-1773347400-1773347400@borealisonaurora.com
SUMMARY:Salsa - Bachata - Merengue - Cumbia
DESCRIPTION:Doors 8pm\n\nJoin us for social dancing at the Aurora Borealis Event Center in Shoreline with rotating guest DJs.\n8:30 – 9:30 pm – Class with Maestro Papa Sergio. No partner required.\nDancing until midnight\n$10 cover at the door\nAges 21+ after 10 pm\nFree Parking
URL:https://borealisonaurora.com/event/salsa-bachata-merengue-cumbia-17/
LOCATION:Aurora Borealis Event Center\, 16708 Aurora Avenue North\, Shoreline\, WA\, 98133\, United States
CATEGORIES:Bachata,Ladies Night,Live Entertainment,Merengue,Salsa
ATTACH;FMTTYPE=image/png:https://borealisonaurora.com/wp-content/uploads/2023/09/Thursday-Flyer-new.png
END:VEVENT
BEGIN:VEVENT
DTSTART;TZID=America/Los_Angeles:20260319T203000
DTEND;TZID=America/Los_Angeles:20260319T203000
DTSTAMP:20260422T043739
CREATED:20260206T174205Z
LAST-MODIFIED:20260206T174205Z
UID:45198-1773952200-1773952200@borealisonaurora.com
SUMMARY:Salsa - Bachata - Merengue - Cumbia
DESCRIPTION:Doors 8pm\n\nJoin us for social dancing at the Aurora Borealis Event Center in Shoreline with rotating guest DJs.\n8:30 – 9:30 pm – Class with Maestro Papa Sergio. No partner required.\nDancing until midnight\n$10 cover at the door\nAges 21+ after 10 pm\nFree Parking
URL:https://borealisonaurora.com/event/salsa-bachata-merengue-cumbia-19/
LOCATION:Aurora Borealis Event Center\, 16708 Aurora Avenue North\, Shoreline\, WA\, 98133\, United States
CATEGORIES:Bachata,Ladies Night,Live Entertainment,Merengue,Salsa
ATTACH;FMTTYPE=image/png:https://borealisonaurora.com/wp-content/uploads/2023/09/Thursday-Flyer-new.png
END:VEVENT
BEGIN:VEVENT
DTSTART;TZID=America/Los_Angeles:20260326T203000
DTEND;TZID=America/Los_Angeles:20260326T203000
DTSTAMP:20260422T043739
CREATED:20260206T174244Z
LAST-MODIFIED:20260206T174326Z
UID:45200-1774557000-1774557000@borealisonaurora.com
SUMMARY:Salsa - Bachata - Merengue - Cumbia
DESCRIPTION:Doors 8pm\n\nJoin us for social dancing at the Aurora Borealis Event Center in Shoreline with rotating guest DJs.\n8:30 – 9:30 pm – Class with Maestro Papa Sergio. No partner required.\nDancing until midnight\n$10 cover at the door\nAges 21+ after 10 pm\nFree Parking
URL:https://borealisonaurora.com/event/salsa-bachata-merengue-cumbia-20/
LOCATION:Aurora Borealis Event Center\, 16708 Aurora Avenue North\, Shoreline\, WA\, 98133\, United States
CATEGORIES:Bachata,Ladies Night,Live Entertainment,Merengue,Salsa
ATTACH;FMTTYPE=image/png:https://borealisonaurora.com/wp-content/uploads/2023/09/Thursday-Flyer-new.png
END:VEVENT
END:VCALENDAR