BEGIN:VCALENDAR
VERSION:2.0
PRODID:-//Aurora Borealis - Shoreline, WA - ECPv6.15.20//NONSGML v1.0//EN
CALSCALE:GREGORIAN
METHOD:PUBLISH
X-WR-CALNAME:Aurora Borealis - Shoreline, WA
X-ORIGINAL-URL:https://borealisonaurora.com
X-WR-CALDESC:Events for Aurora Borealis - Shoreline, WA
REFRESH-INTERVAL;VALUE=DURATION:PT1H
X-Robots-Tag:noindex
X-PUBLISHED-TTL:PT1H
BEGIN:VTIMEZONE
TZID:America/Los_Angeles
BEGIN:DAYLIGHT
TZOFFSETFROM:-0800
TZOFFSETTO:-0700
TZNAME:PDT
DTSTART:20240310T100000
END:DAYLIGHT
BEGIN:STANDARD
TZOFFSETFROM:-0700
TZOFFSETTO:-0800
TZNAME:PST
DTSTART:20241103T090000
END:STANDARD
BEGIN:DAYLIGHT
TZOFFSETFROM:-0800
TZOFFSETTO:-0700
TZNAME:PDT
DTSTART:20250309T100000
END:DAYLIGHT
BEGIN:STANDARD
TZOFFSETFROM:-0700
TZOFFSETTO:-0800
TZNAME:PST
DTSTART:20251102T090000
END:STANDARD
BEGIN:DAYLIGHT
TZOFFSETFROM:-0800
TZOFFSETTO:-0700
TZNAME:PDT
DTSTART:20260308T100000
END:DAYLIGHT
BEGIN:STANDARD
TZOFFSETFROM:-0700
TZOFFSETTO:-0800
TZNAME:PST
DTSTART:20261101T090000
END:STANDARD
END:VTIMEZONE
BEGIN:VEVENT
DTSTART;TZID=America/Los_Angeles:20251101T200000
DTEND;TZID=America/Los_Angeles:20251101T230000
DTSTAMP:20260421T171757
CREATED:20250919T203544Z
LAST-MODIFIED:20250919T203544Z
UID:44308-1762027200-1762038000@borealisonaurora.com
SUMMARY:Dark Wave Mixtape
DESCRIPTION:Doors 7pm | Show 8pm | 21+ \n$12.50 Advanced / $20 Day of Show – Purchase tickets on Eventbrite here. \n\nHalloween weekend continues!!…\nLeft Of The Dial and Aurora Borealis present:A Day Of The Dead / Halloween Party!!\nFeaturing members of Seattle’s own Prom Date Mixtape & The EPIC -DJ J.Q. (of Mercury Night Club fame)!!\n\nDark Wave Mixtape brings to life the music of: Bauhaus\, Love & Rockets\, Killing Joke\, Joy Division\, The Cure\, Sisters Of Mercy\, Ministry\, Peter Murphy\, The Mission and MORE!! We LOVE paying homage to this music!!\n\nDJ J.Q. is a veteran of the Dark Electronic & Industrial Seattle music scene – Making bootys shake for decades\, J.Q. knows how to keep the “dark dancers” moving – ALL NIGHT!!\n\nDRESS TO IMPRESS in the spirit of Dio De Los Muertos and ALL THINGS… DARK!!
URL:https://borealisonaurora.com/event/dark-wave-mixtape/
LOCATION:Aurora Borealis Event Center\, 16708 Aurora Avenue North\, Shoreline\, WA\, 98133\, United States
CATEGORIES:80s,90s,Live Entertainment,Live Music,Pop,rock
ATTACH;FMTTYPE=image/png:https://borealisonaurora.com/wp-content/uploads/2025/09/DWM_AB_Nov1-2.png
END:VEVENT
BEGIN:VEVENT
DTSTART;TZID=America/Los_Angeles:20251102T180000
DTEND;TZID=America/Los_Angeles:20251102T210000
DTSTAMP:20260421T171757
CREATED:20250922T192558Z
LAST-MODIFIED:20250922T192859Z
UID:44403-1762106400-1762117200@borealisonaurora.com
SUMMARY:Rebecca Jaymes + Manazma Sheen + Friends
DESCRIPTION:Doors 5pm | Show 6pm \nNo Cover – Suggested $15 Donation \nExperience an unforgettable night as vocalist Rebecca Jaymes teams up with Seattle-based instrumental group Manazma Sheen. Together\, they deliver original compositions\, inventive arrangements\, and a sound that bridges jazz sophistication with funk\, swing\, and beyond.
URL:https://borealisonaurora.com/event/rebecca-jaymes-manazma-sheen-friends/
LOCATION:Aurora Borealis Event Center\, 16708 Aurora Avenue North\, Shoreline\, WA\, 98133\, United States
CATEGORIES:Jazz,Live Entertainment,Live Music,Soul
ATTACH;FMTTYPE=image/png:https://borealisonaurora.com/wp-content/uploads/2025/09/White-and-Green-Modern-Bold-Music-Fest-Poster-3-scaled.png
END:VEVENT
BEGIN:VEVENT
DTSTART;TZID=America/Los_Angeles:20251105T193000
DTEND;TZID=America/Los_Angeles:20251105T220000
DTSTAMP:20260421T171757
CREATED:20250923T222643Z
LAST-MODIFIED:20250923T222643Z
UID:44200-1762371000-1762380000@borealisonaurora.com
SUMMARY:Aurora Borealis Jazz Jam hosted by Rebecca Jaymes
DESCRIPTION:Doors 6:30pm / Music Starts 7:30pm\n\nJoin us on the first Wednesday of each month for the Aurora Borealis Jazz Talent Showcase\, hosted by Rebecca Jaymes. After a jazz set with Rebecca and the band\, we will invite instrumentalists and vocalists up to the stage. Want to show off your Jazz/Blues chops in a fun\, safe and friendly environment? We look forward to welcoming you!
URL:https://borealisonaurora.com/event/aurora-borealis-jazz-jam-hosted-by-rebecca-jaymes-2/
LOCATION:Aurora Borealis Event Center\, 16708 Aurora Avenue North\, Shoreline\, WA\, 98133\, United States
CATEGORIES:Jazz,Live Entertainment,Live Music
ATTACH;FMTTYPE=image/png:https://borealisonaurora.com/wp-content/uploads/2025/02/Jazz-Jam-FB.png
END:VEVENT
BEGIN:VEVENT
DTSTART;TZID=America/Los_Angeles:20251107T193000
DTEND;TZID=America/Los_Angeles:20251107T220000
DTSTAMP:20260421T171757
CREATED:20250916T182025Z
LAST-MODIFIED:20251104T170223Z
UID:44379-1762543800-1762552800@borealisonaurora.com
SUMMARY:Jennifer Kelly Band
DESCRIPTION:Doors 6:30pm | Show 7:30pm | 21+ \nTickets:• $10 (+ taxes & fees) – General Admission Advanced• $15 (+ taxes & fees) – Day of Show \nPurchase tickets on Eventbrite here.  \nJennifer Kelly Band is a side project\, featuring Jennifer Kelly\, (vocals and rhythm guitar) Aaron Hiebert (lead & rhythm guitar) and Jason Edwards (drums). The trio comprise the core members of the band and are completed with the more recent and outstanding addition of Peter Adams (keys) and Ethan Gibbons (bass)\, \nJKB\, was launched in 2013 to support Jennifer’s first solo recording project\, Nothing’s Lost\, and enjoys a faithful following. In 2022\, Jennifer’s second album\, Stones to the Sea\, was released with a lively show right here at Aurora Borealis. \nJennifer\, known for soul-stirring vocals\, spends most of her musical time bringing the healing power of song to correctional facilities in Washington state. Hailed as “a marvelous Stratocaster player\,” Aaron is regularly featured on the Emerald City’s Guitar show\, Friends Pick Friday. When it comes to an inspired drum solo\, Jason Edwards delivers. Jason is the bedrock of the band\, expertly holding the canvas tight\, allowing other band members paint liberally! \nThis event is being hosted by RISE2hope\, where Jennifer Kelly is the Executive Director\, in celebration of 10 years of programs of hope and healing with our kin behind bars.
URL:https://borealisonaurora.com/event/jennifer-kelly-band/
LOCATION:Aurora Borealis Event Center\, 16708 Aurora Avenue North\, Shoreline\, WA\, 98133\, United States
CATEGORIES:blues,Live Entertainment,Live Music,R&B,rock
ATTACH;FMTTYPE=image/png:https://borealisonaurora.com/wp-content/uploads/2025/09/11.7-Jen-2.png
END:VEVENT
BEGIN:VEVENT
DTSTART;TZID=America/Los_Angeles:20251111T190000
DTEND;TZID=America/Los_Angeles:20251111T220000
DTSTAMP:20260421T171757
CREATED:20251002T213604Z
LAST-MODIFIED:20251002T214458Z
UID:44533-1762887600-1762898400@borealisonaurora.com
SUMMARY:November Blues Bash with Nikhil Bagga and the Taylor Newville Band!
DESCRIPTION:Doors 6pm | Show 7pm | All Ages \n$10 Suggested Donation \nGet ready for a night of powerhouse blues and rock energy at this month’s Blues Bash\, featuring the incredible talents of Nikhil Bagga and Taylor Newville & the Riders! \nNikhil Bagga \nAt only 13\, Seattle’s Nikhil Bagga is already winning over audiences with his guitar chops\, magnetic stage presence\, and youthful charm. Described by V13 as “wise and skilled way\, way beyond his years”\, Bagga has performed everywhere from the Seattle Kraken arena to Russell Wilson’s Why Not You Foundation. His debut album\, Leap of Faith\, recorded at London Bridge Studios\, is packed with thick guitar tones and 90s-inspired alt-rock energy—marking him as one of the brightest rising stars on the scene. \nTaylor Newville \nFrom Portland\, Oregon\, Taylor Newville brings a fiery\, soulful blues sound that has landed her on some of the Northwest’s biggest festival stages. Leading her band\, Taylor Newville and the Riders\, she’s been nominated for multiple Cascade Blues Association Muddy Awards and recently released her new EP Find My Way (July 2025). With passion and power\, her performances are proof that the blues is alive and thriving in the next generation. \nGiving Back \nThe Blues Society will be also collecting donations for their 10\,000 Cans for Families in Need campaign. Bring non-perishables and help support families while enjoying a night of unforgettable live music.
URL:https://borealisonaurora.com/event/november-blues-bash-with-nikhil-bagga-and-the-taylor-newville-band/
LOCATION:Aurora Borealis Event Center\, 16708 Aurora Avenue North\, Shoreline\, WA\, 98133\, United States
CATEGORIES:blues,Live Entertainment,Live Music
ATTACH;FMTTYPE=image/jpeg:https://borealisonaurora.com/wp-content/uploads/2025/10/557957843_1246523300842568_9188125201493473875_n.jpg
END:VEVENT
BEGIN:VEVENT
DTSTART;TZID=America/Los_Angeles:20251112T193000
DTEND;TZID=America/Los_Angeles:20251112T220000
DTSTAMP:20260421T171757
CREATED:20250923T225438Z
LAST-MODIFIED:20250923T225438Z
UID:44431-1762975800-1762984800@borealisonaurora.com
SUMMARY:Jazz Police Big Band
DESCRIPTION:Doors 6:30pm | Show 7:30pm \nThe Jazz Police Big Band is a high-energy ensemble known for its fun\, original\, and dynamic sound. Blending the power of rock\, the groove of swing\, and the spirit of inspiration\, this band delivers performances that captivate audiences and leave a lasting impression. Whether laying down infectious rhythms or soaring through bold improvisations\, Jazz Police Big Band brings a unique and electrifying presence to every stage. With a passion for innovation and a deep love for the art of jazz\, they don’t just play music—they create an unforgettable experience.
URL:https://borealisonaurora.com/event/jazz-police-big-band/
LOCATION:Aurora Borealis Event Center\, 16708 Aurora Avenue North\, Shoreline\, WA\, 98133\, United States
CATEGORIES:Big Band,Jazz,Live Entertainment,Live Music
ATTACH;FMTTYPE=image/png:https://borealisonaurora.com/wp-content/uploads/2025/09/11.12-Jazz-Police.png
END:VEVENT
BEGIN:VEVENT
DTSTART;TZID=America/Los_Angeles:20251114T200000
DTEND;TZID=America/Los_Angeles:20251114T230000
DTSTAMP:20260421T171757
CREATED:20250929T200108Z
LAST-MODIFIED:20251104T171903Z
UID:44483-1763150400-1763161200@borealisonaurora.com
SUMMARY:80's Ladies + Arena
DESCRIPTION:Doors 7pm | Show 8pm | 21+ \nTickets:• $10 (+ taxes & fees) – General Admission Advanced• $15 (+ taxes & fees) – Day of Show \nPurchase tickets on Eventbrite here. \n\n80’s Ladies\nPrepare to be transported to the heyday of big hair\, leg warmers and neon colors with 80’s Ladies\, a sensational dance act that stands out from the crowd. What truly distinguishes 80’s Ladies from the New Wave or Hair Metal acts currently gracing the circuit is the magnetic synergy of two extraordinary female vocalists. Together\, they expertly re-create the early MTV hits that not only defined an era but left an indelible mark on the music landscape.\n80’s Ladies isn’t just about music; it’s about creating an entire experience. From vintage outfits and hairstyles to the radiant stage setup\, every detail is designed to immerse you in the 80s. Dress in your best retro attire\, tease your hair\, and don your wayfarer shades – it’s time to get lost in the 80s!\n\n\nArena\nPicture the days when you could witness legends like Journey\, Aerosmith\, and Bon Jovi\, sometimes even sharing the same bill\, all for just five bucks! Those were the days when live music was pure magic\, and every concert was a memory waiting to happen.\nArena expertly captures the essence of not just these legendary bands\, but a whole roster of rock icons that could have easily shared the same stage. But don’t confuse Arena with the spandex-and-wig-wearing glam rock bands saturating today’s music scene. An Arena show embodies the era when there was more grit than glam\, favoring jeans over spandex\, and delivering raw power over mere posing.
URL:https://borealisonaurora.com/event/arena/
LOCATION:Aurora Borealis Event Center\, 16708 Aurora Avenue North\, Shoreline\, WA\, 98133\, United States
CATEGORIES:80s,90s,Live Entertainment,Live Music,Pop,rock
ATTACH;FMTTYPE=image/png:https://borealisonaurora.com/wp-content/uploads/2025/09/11.14-Arena-2.png
END:VEVENT
BEGIN:VEVENT
DTSTART;TZID=America/Los_Angeles:20251115T200000
DTEND;TZID=America/Los_Angeles:20251115T230000
DTSTAMP:20260421T171757
CREATED:20250923T224330Z
LAST-MODIFIED:20251104T170454Z
UID:44428-1763236800-1763247600@borealisonaurora.com
SUMMARY:Point of Sail Band - A Tribute to Yacht Rock
DESCRIPTION:Doors 7pm | Show 8pm | 21+ \nTickets:• $15 (+ taxes & fees) – General Admission Advanced• $20 (+ taxes & fees) – Day of Show \nPurchase tickets on Eventbrite here. \nPoint of Sail – A Tribute to Yacht Rock faithfully recreates the sound of the music from the late 70’s and early 80’s known as Yacht Rock or AM Gold.  Founded by lead vocalist Brian Garrison in 2022\, it features a 7-piece multi-instrumentalist line up with 5-layer vocal harmonies and multiple lead singers. \nCurrent Members of Point of Sail include: \n\nBrian Garrison – Lead Vocals & Percussion\nMarcelo Portaro – Lead Guitar\nGeoff Woodhouse – Keyboards & Vocals\nMelissa Falarski – Keys\, Trumpet\, Percussion\, Vocals\nAlan Hardwick – Sax\, Keys\, Guitar\, Percussion\, Vocals\nGary Sparling – Bass Guitar\nMark Pendolino – Drums\, Vocals
URL:https://borealisonaurora.com/event/point-of-sail-band-a-tribute-to-yacht-rock/
LOCATION:Aurora Borealis Event Center\, 16708 Aurora Avenue North\, Shoreline\, WA\, 98133\, United States
CATEGORIES:70s,80s,Funk,Live Entertainment,Live Music,Pop,R&B
ATTACH;FMTTYPE=image/png:https://borealisonaurora.com/wp-content/uploads/2025/09/11.15-Point-of-Sail.png
END:VEVENT
BEGIN:VEVENT
DTSTART;TZID=America/Los_Angeles:20251116T180000
DTEND;TZID=America/Los_Angeles:20251116T210000
DTSTAMP:20260421T171757
CREATED:20250929T165327Z
LAST-MODIFIED:20250929T165338Z
UID:44471-1763316000-1763326800@borealisonaurora.com
SUMMARY:Stariat Krisko
DESCRIPTION:Doors 5pm | Show 6pm | All Ages \n$65 at the door \nAfter six consecutive fully sold-out mega concerts in Bulgaria and in front of more than 50\,000 fans in Sofia\, Varna\, and Plovdiv\, Stariat Krisko (meaning The Old Krisko) is bringing this legendary show across the ocean! \nGet ready for explosive energy\, a powerful spectacle\, and all the hits that made Krisko one of the most successful and beloved Bulgarian artists of the past 18 years. \nWhat to expect: \n\nThe biggest hits from Staria Krisko – from the golden years to today\nA unique show that shook Arena Sofia\nAn atmosphere that will take you back to the good old days\n\nLimited number of dates in the USA – don’t miss this once-in-a-lifetime chance to reconnect with the Homeland! \nTickets are available at doors! \nBefore the main event\, we’ll also enjoy a special performance by the talented local young Bulgarian artist Mirchaka.
URL:https://borealisonaurora.com/event/stariat-krisko/
LOCATION:Aurora Borealis Event Center\, 16708 Aurora Avenue North\, Shoreline\, WA\, 98133\, United States
CATEGORIES:Live Entertainment,Live Music
ATTACH;FMTTYPE=image/png:https://borealisonaurora.com/wp-content/uploads/2025/09/3738689813140727614.png
END:VEVENT
BEGIN:VEVENT
DTSTART;TZID=America/Los_Angeles:20251119T193000
DTEND;TZID=America/Los_Angeles:20251119T220000
DTSTAMP:20260421T171757
CREATED:20250929T201020Z
LAST-MODIFIED:20250929T201105Z
UID:44486-1763580600-1763589600@borealisonaurora.com
SUMMARY:Seattle Jazz Network
DESCRIPTION:Doors 6:30pm | Show 7:30pm \nSeattle Jazz Network musicians are a group of experienced\, outstanding large-and-small ensemble players from around the Puget Sound. SJN was created around the idea of exploring the musical flexibility and adventure that are possible when different configurations of musicians come together. Jazz and its improvisational forms is uniquely adaptable to being played by groups of different sizes\, and SJN’s members arrange and play a variety of music in a number of possible instrumentations.
URL:https://borealisonaurora.com/event/seattle-jazz-network/
LOCATION:Aurora Borealis Event Center\, 16708 Aurora Avenue North\, Shoreline\, WA\, 98133\, United States
CATEGORIES:Big Band,Jazz,Live Entertainment,Live Music
ATTACH;FMTTYPE=image/png:https://borealisonaurora.com/wp-content/uploads/2025/09/11.19-SJN.png
END:VEVENT
BEGIN:VEVENT
DTSTART;TZID=America/Los_Angeles:20251121T200000
DTEND;TZID=America/Los_Angeles:20251121T230000
DTSTAMP:20260421T171757
CREATED:20250902T214725Z
LAST-MODIFIED:20250902T214725Z
UID:44257-1763755200-1763766000@borealisonaurora.com
SUMMARY:Nite Wave + False Sense of Security
DESCRIPTION:Doors 7pm | Show 8pm | 21+ \n$22.50 Advanced / $30 Day of Show – Purchase tickets on Eventbrite here.  \nThe Best 80s 90s Party Ever! (So Far) Featuring: Nite Wave (80’s New Wave) with False Sense of Security \nNite Wave – Seattle\, WA – (NiteWaveParty.com) Known for their high energy show\, Nite Wave continues their ’80s dance ways performing New Wave hits from Duran Duran\, INXS\, Frankie Goes to Hollywood\, The Cure\, New Order\, Prince\, Depeche Mode and more! Most noted for being handpicked by Billy Idol to open for the legendary ’80s rocker\, they have also performed with Multi-Platinum recording artist Tiffany\, Rock & Roll Hall of Famer Jane Wiedlin of The Go-Go’s and 90s Platinum artist Everclear. Featured on CNN and Good Morning America\, Nite Wave has helped raise over $17\,000 for Northwest Harvest and American Red Cross.
URL:https://borealisonaurora.com/event/nite-wave-false-sense-of-security/
LOCATION:Aurora Borealis Event Center\, 16708 Aurora Avenue North\, Shoreline\, WA\, 98133\, United States
CATEGORIES:80s,Live Entertainment,Live Music,Pop,rock
ATTACH;FMTTYPE=image/jpeg:https://borealisonaurora.com/wp-content/uploads/2025/09/80s-112125-1.91x1-fb-banner.jpg
END:VEVENT
BEGIN:VEVENT
DTSTART;TZID=America/Los_Angeles:20251122T200000
DTEND;TZID=America/Los_Angeles:20251122T230000
DTSTAMP:20260421T171757
CREATED:20250929T201634Z
LAST-MODIFIED:20250929T201634Z
UID:44494-1763841600-1763852400@borealisonaurora.com
SUMMARY:Festival of Friends
DESCRIPTION:Doors 7pm | Music 8pm\n$10 Cover at the door (Cash or Venmo)\n\nPlease join us on Saturday\, November 22 at Aurora Borealis in Shoreline for the 20th installment of our Bandmixers > Discography event series!\nThe Discography format is focused on iconic albums and classic songs that honor some of rock music’s most celebrated bands and artists.\nThis event will feature 4 FoF community bands performing 35-40 minute showcase artist and album sets\, featuring select tracks from the following iconic bands (all times approximate):\n– 8:00PM: Scorpions (Selections from Love At First Sting)– 8:50PM: David Bowie (Selections from Ziggy Stardust)– 9:45PM: Journey (Best Of Selections)– 10:45PM: The Cult (Selections from Sonic Temple)
URL:https://borealisonaurora.com/event/festival-of-friends/
LOCATION:Aurora Borealis Event Center\, 16708 Aurora Avenue North\, Shoreline\, WA\, 98133\, United States
CATEGORIES:80s,Live Entertainment,Live Music,Pop,rock
ATTACH;FMTTYPE=image/jpeg:https://borealisonaurora.com/wp-content/uploads/2025/09/bandmixers-discography-november-22-2025-aurora-boreals_orig.jpg
END:VEVENT
BEGIN:VEVENT
DTSTART;TZID=America/Los_Angeles:20251126T200000
DTEND;TZID=America/Los_Angeles:20251127T010000
DTSTAMP:20260421T171757
CREATED:20251104T225652Z
LAST-MODIFIED:20251104T225652Z
UID:44709-1764187200-1764205200@borealisonaurora.com
SUMMARY:Pre-Thanksgiving Salsa | Bachata | Cumbia | Merengue
DESCRIPTION:Doors 8pm | 21+ | $10 cover at the door \n8:30 pm – 9:30 pm Class by PapaSergio. All levels are welcome. No partner needed \nSocial dancing 9:30 pm -1:00 am with DJ Ache \nKick off the holiday season with a night of fun! Get together with your friends for a Friends-Giving\, and celebrate music and dance!
URL:https://borealisonaurora.com/event/pre-thanksgiving-salsa-bachata-cumbia-merengue/
LOCATION:Aurora Borealis Event Center\, 16708 Aurora Avenue North\, Shoreline\, WA\, 98133\, United States
CATEGORIES:Bachata,Live Entertainment,Live Music,Merengue,Salsa
ATTACH;FMTTYPE=image/png:https://borealisonaurora.com/wp-content/uploads/2025/11/Pre-Thanksgiving-Social-9.png
END:VEVENT
BEGIN:VEVENT
DTSTART;TZID=America/Los_Angeles:20251128T200000
DTEND;TZID=America/Los_Angeles:20251128T230000
DTSTAMP:20260421T171757
CREATED:20250929T203247Z
LAST-MODIFIED:20251104T170646Z
UID:44501-1764360000-1764370800@borealisonaurora.com
SUMMARY:Got '90s?
DESCRIPTION:Doors 7pm | Show 8pm | 21+ \nTickets:• $10 (+ taxes & fees) – General Admission Advanced• $15 (+ taxes & fees) – Day of Show \nPurchase tickets on Eventbrite here. \nThe Pacific Northwest’s Premier 90’s Tribute Band\, Got ’90s covers to perfection an impressive flashback of 90’s nostalgia! Get out your grunge\, tie a hoodie around your waist\, lace up those high tops and come dance to some of the greatest music of the decade. We cover Iconic artists from the decade like Vanilla Ice\, No Doubt\, Nirvana\, TLC\, Blink 182\, Lit\, Salt-N-Pepa\, Eminem\, Coolio\, Alanis Morissette\, Green Day\, The Spice Girls\, Shania Twain\, Ginuwine\, Next\, Backstreet Boys\, Bobby Brown\, House of Pain\, Third Eye Blind\, Sublime\, Sir Mix-A-Lot\, Christina Aguilera\, Britney Spears and More!
URL:https://borealisonaurora.com/event/got-90s/
LOCATION:Aurora Borealis Event Center\, 16708 Aurora Avenue North\, Shoreline\, WA\, 98133\, United States
CATEGORIES:90s,Live Entertainment,Live Music,Pop,rock
ATTACH;FMTTYPE=image/png:https://borealisonaurora.com/wp-content/uploads/2025/09/11.28-Got-90s-1.png
END:VEVENT
BEGIN:VEVENT
DTSTART;TZID=America/Los_Angeles:20251129T200000
DTEND;TZID=America/Los_Angeles:20251129T230000
DTSTAMP:20260421T171757
CREATED:20250929T204215Z
LAST-MODIFIED:20251104T170742Z
UID:44505-1764446400-1764457200@borealisonaurora.com
SUMMARY:BROHAMM
DESCRIPTION:Doors 7pm | Show 8pm | 21+ \nTickets:• $10 (+ taxes & fees) – General Admission Advanced• $15 (+ taxes & fees) – Day of Show \nPurchase tickets on Eventbrite here. \nAny way you slice it\, this group of Six Talented Entertainers known as\, “BROHAMM”\, headed by the Three Hammond Brothers\,* Larry- our MD\, a veteran Drummer Percussionist\, who has traveled and performed all over the world\, as a Band Leader and Band Member\, and Lead Vocalist and musical arranger and Studio Musician\, * Curtis- Front Man\, Band Leader and Band Member\, Drummer Percussionist\, Lead and Background Vocalist\, * Len- Horns\, Drummer Percussionist\, Kalimba artist\, Lead and Background Vocalist\, who were brought up in a musical Family that always had music\, musicians\, and musical instruments around them. In their younger years while listening to the early contemporary R&B\, Jazz\, Blues\, Top 40 and Gospel music\, as well as the current music of the day\, they started Experemixing\, ((our new favorite word)) with these Musical styles\, Grooves\, and Vocals and this led them to creating their own style of music and performing it at their Fathers Club\, “The Brothers Tavern” in Everett Washington. \nOver the years they have since honed and crafted their own special style of live music and love any chance they get to perform. On stage\, they have fun and keep you entertained\, by engaging with their audience. It becomes infectious\, as Brohamm keeps the energy upbeat and lively with songs from the old school Motown Philly Classic Soul to the new upbeat Funky R&B songs of today and yesterday\, that everybody knows. The Band keeps the party going with that seriously funky Brohamm Groove along with the Rich Vocal Harmonies they’ve learned and crafted together over the years. \nFilling out the rest of the Bands rhythm section and background vocals\, are * Gary Tobin- our Master Guitarist\, Background Vocalist\, soloist\, Band Leader and Band Member\, * James Paulter- our very Talented Keyboardist\, Background Vocalist\, and all thing necessary for any Band to have\, including Jokes\, and * Bailey Richard- Background Vocalist\, and one of the Baddest and Funkiest dancing Bass players around\, and sings Background Vocals. \nBrohamm’s music will keep you Dancing with their exceptional musicianship\, distinctive rich and Soulful Vocal Harmonies\, or if you wish\, just sit back\, and listen to their creative way they arrange and perform songs. \nBROHAMM BAND-WE BRING THE PARTY
URL:https://borealisonaurora.com/event/brohamm/
LOCATION:Aurora Borealis Event Center\, 16708 Aurora Avenue North\, Shoreline\, WA\, 98133\, United States
CATEGORIES:Funk,Live Entertainment,Live Music,Pop,R&B,Soul
ATTACH;FMTTYPE=image/png:https://borealisonaurora.com/wp-content/uploads/2025/09/11.29-Brohamm.png
END:VEVENT
END:VCALENDAR