BEGIN:VCALENDAR
VERSION:2.0
PRODID:-//Aurora Borealis - Shoreline, WA - ECPv6.15.20//NONSGML v1.0//EN
CALSCALE:GREGORIAN
METHOD:PUBLISH
X-WR-CALNAME:Aurora Borealis - Shoreline, WA
X-ORIGINAL-URL:https://borealisonaurora.com
X-WR-CALDESC:Events for Aurora Borealis - Shoreline, WA
REFRESH-INTERVAL;VALUE=DURATION:PT1H
X-Robots-Tag:noindex
X-PUBLISHED-TTL:PT1H
BEGIN:VTIMEZONE
TZID:America/Los_Angeles
BEGIN:DAYLIGHT
TZOFFSETFROM:-0800
TZOFFSETTO:-0700
TZNAME:PDT
DTSTART:20250309T100000
END:DAYLIGHT
BEGIN:STANDARD
TZOFFSETFROM:-0700
TZOFFSETTO:-0800
TZNAME:PST
DTSTART:20251102T090000
END:STANDARD
BEGIN:DAYLIGHT
TZOFFSETFROM:-0800
TZOFFSETTO:-0700
TZNAME:PDT
DTSTART:20260308T100000
END:DAYLIGHT
BEGIN:STANDARD
TZOFFSETFROM:-0700
TZOFFSETTO:-0800
TZNAME:PST
DTSTART:20261101T090000
END:STANDARD
BEGIN:DAYLIGHT
TZOFFSETFROM:-0800
TZOFFSETTO:-0700
TZNAME:PDT
DTSTART:20270314T100000
END:DAYLIGHT
BEGIN:STANDARD
TZOFFSETFROM:-0700
TZOFFSETTO:-0800
TZNAME:PST
DTSTART:20271107T090000
END:STANDARD
END:VTIMEZONE
BEGIN:VEVENT
DTSTART;TZID=America/Los_Angeles:20260201T180000
DTEND;TZID=America/Los_Angeles:20260201T220000
DTSTAMP:20260421T120614
CREATED:20260102T170853Z
LAST-MODIFIED:20260102T170925Z
UID:44952-1769968800-1769983200@borealisonaurora.com
SUMMARY:Desi Slava
DESCRIPTION:Doors 5pm | Show 6pm | 21+ \nTickets:• $65 (+ taxes & fees) – General Admission Advanced \nPurchase tickets here. \nExperience an unforgettable night with Desi Slava\, one of Bulgaria’s most iconic and beloved voices\, live on stage. \nDesi Slava is a powerhouse performer who embodies the very soul of modern Bulgarian music—where tradition\, pop\, and global influences collide into an unforgettable live experience. \n\nWith a career spanning decades\, Desi Slava is celebrated for her exceptional vocal range\, emotional delivery\, and versatility. She effortlessly moves between Bulgarian pop-folk (chalga)\, pop\, dance\, and ballads\, making her appeal cross-generational and internationally resonant.\n\n\nWhether you’re a lifelong fan or hearing her live for the first time\, a Desi Slava show deliverspassion\, nostalgia\, and modern energy all in one night. This is more than a performance—it’s a cultural event that brings the Bulgarian community together and leaves audiences wanting more.
URL:https://borealisonaurora.com/event/desi-slava/
LOCATION:Aurora Borealis Event Center\, 16708 Aurora Avenue North\, Shoreline\, WA\, 98133\, United States
CATEGORIES:Live Entertainment,Live Music
ATTACH;FMTTYPE=image/png:https://borealisonaurora.com/wp-content/uploads/2026/01/socialmediaposter.png
END:VEVENT
BEGIN:VEVENT
DTSTART;TZID=America/Los_Angeles:20260204T193000
DTEND;TZID=America/Los_Angeles:20260204T220000
DTSTAMP:20260421T120614
CREATED:20251210T201529Z
LAST-MODIFIED:20251210T201529Z
UID:44894-1770233400-1770242400@borealisonaurora.com
SUMMARY:The Aurora Borealis Jazz Jam Hosted by Rebecca Jaymes
DESCRIPTION:Doors 6:30pm / Music Starts 7:30pm \nJoin us on the first Wednesday of each month for the Aurora Borealis Jazz Talent Showcase\, hosted by Rebecca Jaymes. After a jazz set with Rebecca and the band\, we will invite instrumentalists and vocalists up to the stage. Want to show off your Jazz/Blues chops in a fun\, safe and friendly environment? We look forward to welcoming you!
URL:https://borealisonaurora.com/event/the-aurora-borealis-jazz-jam-hosted-by-rebecca-jaymes-2/
LOCATION:Aurora Borealis Event Center\, 16708 Aurora Avenue North\, Shoreline\, WA\, 98133\, United States
CATEGORIES:blues,Jazz,Live Entertainment,Live Music
ATTACH;FMTTYPE=image/png:https://borealisonaurora.com/wp-content/uploads/2025/02/Jazz-Jam-FB.png
END:VEVENT
BEGIN:VEVENT
DTSTART;TZID=America/Los_Angeles:20260206T200000
DTEND;TZID=America/Los_Angeles:20260206T230000
DTSTAMP:20260421T120614
CREATED:20260109T214940Z
LAST-MODIFIED:20260109T222448Z
UID:45017-1770408000-1770418800@borealisonaurora.com
SUMMARY:Neon Knights + Total Metal Recall
DESCRIPTION:Doors 7pm | Show 8pm| 21+ \nTickets:• $10 (+ taxes & fees) – General Admission Advanced• $15 (+ taxes & fees) – Day of Show \nPurchase tickets on Eventbrite here. \n\nFrom Dio-era Black Sabbath to 80s & 90s metal anthems — Neon Knights and Total Metal Recall bring nonstop headbanging hits!\n\n\n\nGet ready for a full-throttle night of classic metal and hard rock with Neon Knights and Total Metal Recall! \nNeon Knights is Seattle’s tribute to Black Sabbath’s legendary Ronnie James Dio era\, delivering the epic vocals and crushing riffs that defined albums like Heaven and Hell and Mob Rules. Fronted by powerhouse vocalist Brian Majors\, and backed by Dave Farrell (guitar)\, Mark Hopkins (bass)\, and Paul Russo (drums)\, Neon Knights brings the drama\, intensity\, and musicianship of Sabbath’s Dio years roaring back to life. \nKeeping the energy cranked all night\, Total Metal Recall celebrates the glory days of ’80s and ’90s heavy metal and hard rock — the anthems that ruled arenas and car stereos alike. From fist-pumping choruses to face-melting guitar solos\, TMR delivers pure nostalgia and high-octane performances that keep the crowd singing and headbanging from start to finish.
URL:https://borealisonaurora.com/event/neon-knights-total-metal-recall/
LOCATION:Aurora Borealis Event Center\, 16708 Aurora Avenue North\, Shoreline\, WA\, 98133\, United States
CATEGORIES:Live Entertainment,Live Music,rock
ATTACH;FMTTYPE=image/png:https://borealisonaurora.com/wp-content/uploads/2026/01/2.6-Neon-Knights.png
END:VEVENT
BEGIN:VEVENT
DTSTART;TZID=America/Los_Angeles:20260210T190000
DTEND;TZID=America/Los_Angeles:20260210T220000
DTSTAMP:20260421T120614
CREATED:20260202T230550Z
LAST-MODIFIED:20260202T230630Z
UID:45162-1770750000-1770760800@borealisonaurora.com
SUMMARY:February Blues Bash with Keith Scott and the Joe Cook Band
DESCRIPTION:Doors 6pm | Show 7pm \nJoin the Washington Blues Society for their monthly Blues Bash — FREE and all ages welcome starting at 7pm! \nLive music from Chicago bluesman Keith Scott and the award-winning Joe Cook Blues Band.Plus raffles\, door prizes\, and a whole lot of soul!
URL:https://borealisonaurora.com/event/februaryblues-bash-with-keith-scott-and-the-joe-cook-band/
LOCATION:Aurora Borealis Event Center\, 16708 Aurora Avenue North\, Shoreline\, WA\, 98133\, United States
CATEGORIES:blues,Live Entertainment,Live Music
ATTACH;FMTTYPE=image/jpeg:https://borealisonaurora.com/wp-content/uploads/2026/02/622131781_1345373664290864_4705371743124314392_n.jpg
END:VEVENT
BEGIN:VEVENT
DTSTART;TZID=America/Los_Angeles:20260211T193000
DTEND;TZID=America/Los_Angeles:20260211T220000
DTSTAMP:20260421T120614
CREATED:20260109T215718Z
LAST-MODIFIED:20260114T165734Z
UID:45023-1770838200-1770847200@borealisonaurora.com
SUMMARY:North Sound Jazz Band
DESCRIPTION:Doors 7pm | Show 7:30pm \nNorth Sound Jazz big band has been performing the best post-swing era arrangements of jazz originals and music from the Great American Songbook for over twenty years. In that time we’ve developed a large library that includes blues\, swing\, funk\, latin\, and ballads for the big band format. Our band members include music educators and other professional musicians\, talented horn and rhythm instrumentalists\, a great vocalist\, and some of us who just can’t put that horn down.
URL:https://borealisonaurora.com/event/north-sound-jazz-band/
LOCATION:Aurora Borealis Event Center\, 16708 Aurora Avenue North\, Shoreline\, WA\, 98133\, United States
CATEGORIES:Big Band,Jazz,Live Entertainment,Live Music
ATTACH;FMTTYPE=image/png:https://borealisonaurora.com/wp-content/uploads/2026/01/2.11-NSJ.png
END:VEVENT
BEGIN:VEVENT
DTSTART;TZID=America/Los_Angeles:20260213T200000
DTEND;TZID=America/Los_Angeles:20260213T230000
DTSTAMP:20260421T120614
CREATED:20251211T005238Z
LAST-MODIFIED:20251211T005528Z
UID:44843-1771012800-1771023600@borealisonaurora.com
SUMMARY:The Nasty Habits + JV/Punk Rushmore Anti-Valentine's Day Party
DESCRIPTION:Doors 7pm | Show 8pm | 21+ \nTickets:• $10 (+ taxes & fees) – General Admission Advanced• $15 (+ taxes & fees) – Day of Show \nPurchase tickets on Eventbrite here. \nCome dance and party the lovers’ holiday away (far away!) Party favors\, prizes\, and surprise guests! An awesome night celebrating singletude and love’s losers – we’ve all been there! \nThe Nasty Habits: We’re the girls your mother warned you about\, and we’re definitely not your average girls! Historically known as Seattle’s premier transgender band\, The Nasty Habits (est. 2003) is currently more diverse than ever in both lineup and music playing unique\, yet faithful renditions of mostly 80’s/90’s edgy rock\, glam\, new/dark wave\, punk\, and pop music. Always played with attitude – our energetic shows keep audiences on their feet with a power-packed\, boisterous\, unforgettable bash! \nJV/Punk Rushmore: For the first time ever – The JV and Punk Rushmore are blending their vibrant showcases into one big pile of hell yeah! Mixing PR’s Pistols\, Ramones\, Clash and Dead Kennedys with the urgent feistiness of the JV’s raucous homage to the era. We expect everyone’s fuel tanks will be satisfyingly depleted! Come get your smile energy on with this JV/PR cocktail. \n 
URL:https://borealisonaurora.com/event/the-nasty-habits-jv-punk-rushmore-anti-valentines-day-party/
LOCATION:Aurora Borealis Event Center\, 16708 Aurora Avenue North\, Shoreline\, WA\, 98133\, United States
CATEGORIES:80s,90s,Live Entertainment,Live Music,Pop,rock
ATTACH;FMTTYPE=image/jpeg:https://borealisonaurora.com/wp-content/uploads/2025/12/595601923_1280563000735099_6303982871859721688_n.jpg
END:VEVENT
BEGIN:VEVENT
DTSTART;TZID=America/Los_Angeles:20260214T200000
DTEND;TZID=America/Los_Angeles:20260214T230000
DTSTAMP:20260421T120614
CREATED:20260117T002256Z
LAST-MODIFIED:20260117T002256Z
UID:45092-1771099200-1771110000@borealisonaurora.com
SUMMARY:Blue Velvet Groove Funk-a-licious Valentine's Dance
DESCRIPTION:Doors 7pm | Show 8pm | 21+\n\n\nTickets:• $15 (+ taxes & fees) – General Admission• $20 (+ taxes & fees)– Day of Show\nPurchase tickets on Eventbrite here.\n\nSingles and couples – join us for an old school Funk-a-licious Valentine’s Dance!\n\nGet your groove on to iconic disco\, funk\, and 80s hits! Make it a night to remember as you dance to Earth Wind and Fire\, Prince\, Chic\, Bruno Mars\, Dua Lipa\, Donna Summer\, The Jacksons\, The Go Gos\, Madonna\, The Emotions\, and more!
URL:https://borealisonaurora.com/event/blue-velvet-groove-funk-a-licious-valentines-dance/
LOCATION:Aurora Borealis Event Center\, 16708 Aurora Avenue North\, Shoreline\, WA\, 98133\, United States
CATEGORIES:70s,80s,90s,blues,Funk,Live Entertainment,Live Music
ATTACH;FMTTYPE=image/png:https://borealisonaurora.com/wp-content/uploads/2026/01/2.14-BVG.png
END:VEVENT
BEGIN:VEVENT
DTSTART;TZID=America/Los_Angeles:20260218T193000
DTEND;TZID=America/Los_Angeles:20260218T213000
DTSTAMP:20260421T120614
CREATED:20260114T214214Z
LAST-MODIFIED:20260114T214214Z
UID:45079-1771443000-1771450200@borealisonaurora.com
SUMMARY:The pH Factor Big Band
DESCRIPTION:Doors 6:30pm | Show 7:30pm | All Ages \nThe pH Factor Big Band was formed in January of 2008 under the direction of Paul Harshman and was formerly known as the Musicworks Jazz Orchestra. Paul’s focus on exciting and challenging repertoire has drawn a highly talented ensemble of musicians that enjoy performing great big band compositions at the highest level. The players are some of the finest in the area and the band has a nice mixture of established and younger musicians that gives the group great chemistry. Together\, the band strives to entertain the audience and itself by exploring a wide range of music from composers and arrangers such as Bill Holman\, Fred Sturm\, Maria Schneider\, Astor Piazzolla\, Peter Herbolzheimer\, Chico O’Farrill\, Jim McNeely\, Tommy Newsom\, Count Basie\, Duke Ellington\, Benny Carter and Stan Kenton. Mat Montgomery has been composing for over 10 years and started leading the band in 2023. His music has been inspired by other Seattle area composers like Marius Nordal and Jim Knapp as well as pulling inspiration from outside of jazz\, including rock\, dubstep\, and Indian classical music. His music explores the wide array of sounds available from a traditional big band instrumentation.
URL:https://borealisonaurora.com/event/the-ph-factor-big-band/
LOCATION:Aurora Borealis Event Center\, 16708 Aurora Avenue North\, Shoreline\, WA\, 98133\, United States
CATEGORIES:Big Band,Jazz,Live Entertainment,Live Music
ATTACH;FMTTYPE=image/png:https://borealisonaurora.com/wp-content/uploads/2026/01/2.18-pH-Factor.png
END:VEVENT
BEGIN:VEVENT
DTSTART;TZID=America/Los_Angeles:20260220T183000
DTEND;TZID=America/Los_Angeles:20260220T213000
DTSTAMP:20260421T120614
CREATED:20260106T173017Z
LAST-MODIFIED:20260106T192148Z
UID:44970-1771612200-1771623000@borealisonaurora.com
SUMMARY:The Lane James Band
DESCRIPTION:Doors 5:30pm | Show 6:30pm | All Ages \nTickets:• $25 (+ taxes & fees) – General Admission Advanced• $35 (+ taxes & fees) – Day of Show \nPurchase tickets on Eventbrite here. \nThe Lane James Band returns to Aurora Borealis for a special benefit concert supporting veterans living with Post-Traumatic Stress Disorder (PTSD). For more than six years\, the band has dedicated its music to giving back—hosting benefit shows across the Northwest to raise awareness and funds for veterans in need. \nBlending blues\, rhythm\, and heartfelt songwriting\, The Lane James Band brings people together through powerful live performances with a purpose. Proceeds from this show will help support vital services for returning veterans\, making it a night where great music truly makes a difference. \nCome enjoy an evening of meaningful music\, community\, and support for those who have served.
URL:https://borealisonaurora.com/event/the-lane-james-band/
LOCATION:Aurora Borealis Event Center\, 16708 Aurora Avenue North\, Shoreline\, WA\, 98133\, United States
CATEGORIES:Live Entertainment,Live Music
ATTACH;FMTTYPE=image/png:https://borealisonaurora.com/wp-content/uploads/2026/01/lane.png
END:VEVENT
BEGIN:VEVENT
DTSTART;TZID=America/Los_Angeles:20260221T200000
DTEND;TZID=America/Los_Angeles:20260221T230000
DTSTAMP:20260421T120614
CREATED:20251208T214007Z
LAST-MODIFIED:20251208T225855Z
UID:44853-1771704000-1771714800@borealisonaurora.com
SUMMARY:Borrowed Time + Third Stage
DESCRIPTION:Doors 7pm | Show 8pm | 21+ \nTickets:• $15 (+ taxes & fees) – General Admission Advanced• $20 (+ taxes & fees) – Day of Show \nPurchase tickets on Eventbrite here. \nGet ready for a night of legendary rock nostalgia!Two powerhouse tribute bands take the stage for one unforgettable show — Third Stage: A Tribute to BOSTON and Borrowed Time: The Music of STYX. \nExperience the soaring vocals\, harmonized guitars\, and iconic radio hits that defined an era. Third Stage recreates the unmistakable BOSTON sound with precision and punch\, while Borrowed Time brings the electrifying melodies and progressive rock magic of STYX to life. \nFrom “More Than a Feeling” to “Come Sail Away\,” this concert delivers all the songs you blasted through cassette decks and car speakers in the ’70s and ’80s. Expect high energy\, epic musicianship\, and a crowd ready to sing along to every chorus. \nTwo legendary sounds. One epic show. Trust us — you’re gonna dig it.
URL:https://borealisonaurora.com/event/borrowed-time-third-stage/
LOCATION:Aurora Borealis Event Center\, 16708 Aurora Avenue North\, Shoreline\, WA\, 98133\, United States
CATEGORIES:70s,80s,Live Entertainment,Live Music,Pop,rock
ATTACH;FMTTYPE=image/png:https://borealisonaurora.com/wp-content/uploads/2025/12/2.21-Borrowed-Time.png
END:VEVENT
BEGIN:VEVENT
DTSTART;TZID=America/Los_Angeles:20260225T183000
DTEND;TZID=America/Los_Angeles:20260225T220000
DTSTAMP:20260421T120614
CREATED:20260114T214424Z
LAST-MODIFIED:20260210T191957Z
UID:45082-1772044200-1772056800@borealisonaurora.com
SUMMARY:Jazz Punishments Big Band + Madrona Jazz Band
DESCRIPTION:Doors 6pm | Show 6:30pm | All Ages \n$10 suggested donation to the musicians\n\nJazz Punishments Big Band is a group of young lions from the Northwest Jazz Scene that are carrying the torch for the majestic legacy of the big band tradition.
URL:https://borealisonaurora.com/event/jazz-punishments-big-band-2/
LOCATION:Aurora Borealis Event Center\, 16708 Aurora Avenue North\, Shoreline\, WA\, 98133\, United States
CATEGORIES:Big Band,Jazz,Live Entertainment,Live Music
ATTACH;FMTTYPE=image/png:https://borealisonaurora.com/wp-content/uploads/2026/01/2.25-Jazz-Pun.png
END:VEVENT
BEGIN:VEVENT
DTSTART;TZID=America/Los_Angeles:20260227T200000
DTEND;TZID=America/Los_Angeles:20260227T230000
DTSTAMP:20260421T120614
CREATED:20260109T222411Z
LAST-MODIFIED:20260206T225615Z
UID:45026-1772222400-1772233200@borealisonaurora.com
SUMMARY:No Rules
DESCRIPTION:Doors 7pm | Show 8pm | 21+ \nTickets:• $10 (+ taxes & fees) – General Admission Advanced• $15 (+ taxes & fees) – Day of Show \nPurchase tickets on Eventbrite here. \nNo Rules’ accomplished\, seasoned musicians feature a squeaky tight rhythm section\, hot horn section and six accomplished vocalists. A wide variety of songs and creative arrangements remain faithful to the original artists while engaging and entertaining audiences in Clubs\, Casinos\, Festivals and Corporate Events.
URL:https://borealisonaurora.com/event/no-rules/
LOCATION:Aurora Borealis Event Center\, 16708 Aurora Avenue North\, Shoreline\, WA\, 98133\, United States
CATEGORIES:70s,80s,90s,blues,Live Entertainment,Live Music,Pop,rock
ATTACH;FMTTYPE=image/png:https://borealisonaurora.com/wp-content/uploads/2026/01/2.27-No-Rules-1.png
END:VEVENT
BEGIN:VEVENT
DTSTART;TZID=America/Los_Angeles:20260228T200000
DTEND;TZID=America/Los_Angeles:20260228T230000
DTSTAMP:20260421T120614
CREATED:20260123T174927Z
LAST-MODIFIED:20260123T175052Z
UID:45118-1772308800-1772319600@borealisonaurora.com
SUMMARY:90's Rewind + Crash Site
DESCRIPTION:Doors 7pm | Show 8pm | 21+ \nTickets:• $10 (+ taxes & fees) – General Admission Advanced• $15 (+ taxes & fees) – Day of Show \nPurchase Tickets on Eventbrite here. \n\nFrom radio anthems to raw Seattle originals — 90’s Rewind and Crash Site deliver a full-blown 90’s flashback party!\n\n\n\nThe soundtrack of the 90’s meets the pulse of Seattle’s original rock scene for a high-energy night of live music and packed dance floors. \n90’s Rewind delivers the best of 90’s pop-rock — big hooks\, crowd-favorite anthems\, and nonstop sing-along moments that keep the room moving all night. \nSharing the stage\, Crash Site brings sharp\, hook-driven originals inspired by the Fastbacks and early B-52s\, powered by standout vocals\, driving guitars\, and infectious grooves. \nWhether you’re here for the throwback hits or to discover a great local band\, expect a lively crowd\, strong sound\, and a full-tilt live show. \n\n\n 
URL:https://borealisonaurora.com/event/90s-rewind-crash-site/
LOCATION:Aurora Borealis Event Center\, 16708 Aurora Avenue North\, Shoreline\, WA\, 98133\, United States
CATEGORIES:90s,Live Entertainment,Live Music,Pop,rock
ATTACH;FMTTYPE=image/jpeg:https://borealisonaurora.com/wp-content/uploads/2026/01/AB-Feb-28th-IG-Flyer.jpg
END:VEVENT
END:VCALENDAR