BEGIN:VCALENDAR
VERSION:2.0
PRODID:-//Aurora Borealis - Shoreline, WA - ECPv6.15.20//NONSGML v1.0//EN
CALSCALE:GREGORIAN
METHOD:PUBLISH
X-WR-CALNAME:Aurora Borealis - Shoreline, WA
X-ORIGINAL-URL:https://borealisonaurora.com
X-WR-CALDESC:Events for Aurora Borealis - Shoreline, WA
REFRESH-INTERVAL;VALUE=DURATION:PT1H
X-Robots-Tag:noindex
X-PUBLISHED-TTL:PT1H
BEGIN:VTIMEZONE
TZID:America/Los_Angeles
BEGIN:DAYLIGHT
TZOFFSETFROM:-0800
TZOFFSETTO:-0700
TZNAME:PDT
DTSTART:20250309T100000
END:DAYLIGHT
BEGIN:STANDARD
TZOFFSETFROM:-0700
TZOFFSETTO:-0800
TZNAME:PST
DTSTART:20251102T090000
END:STANDARD
BEGIN:DAYLIGHT
TZOFFSETFROM:-0800
TZOFFSETTO:-0700
TZNAME:PDT
DTSTART:20260308T100000
END:DAYLIGHT
BEGIN:STANDARD
TZOFFSETFROM:-0700
TZOFFSETTO:-0800
TZNAME:PST
DTSTART:20261101T090000
END:STANDARD
BEGIN:DAYLIGHT
TZOFFSETFROM:-0800
TZOFFSETTO:-0700
TZNAME:PDT
DTSTART:20270314T100000
END:DAYLIGHT
BEGIN:STANDARD
TZOFFSETFROM:-0700
TZOFFSETTO:-0800
TZNAME:PST
DTSTART:20271107T090000
END:STANDARD
END:VTIMEZONE
BEGIN:VEVENT
DTSTART;TZID=America/Los_Angeles:20260603T193000
DTEND;TZID=America/Los_Angeles:20260603T220000
DTSTAMP:20260421T120615
CREATED:20260318T153703Z
LAST-MODIFIED:20260318T153703Z
UID:45421-1780515000-1780524000@borealisonaurora.com
SUMMARY:The Aurora Borealis Jazz Jam Hosted by Rebecca Jaymes
DESCRIPTION:Doors 6:30pm / Music Starts 7:30pm \nJoin us on the first Wednesday of each month for the Aurora Borealis Jazz Talent Showcase\, hosted by Rebecca Jaymes. After a jazz set with Rebecca and the band\, we will invite instrumentalists and vocalists up to the stage. Want to show off your Jazz/Blues chops in a fun\, safe and friendly environment? We look forward to welcoming you!
URL:https://borealisonaurora.com/event/the-aurora-borealis-jazz-jam-hosted-by-rebecca-jaymes-6/
LOCATION:Aurora Borealis Event Center\, 16708 Aurora Avenue North\, Shoreline\, WA\, 98133\, United States
CATEGORIES:blues,Jazz,Live Entertainment,Live Music
ATTACH;FMTTYPE=image/png:https://borealisonaurora.com/wp-content/uploads/2025/02/Jazz-Jam-FB.png
END:VEVENT
BEGIN:VEVENT
DTSTART;TZID=America/Los_Angeles:20260606T200000
DTEND;TZID=America/Los_Angeles:20260606T230000
DTSTAMP:20260421T120615
CREATED:20260410T154254Z
LAST-MODIFIED:20260410T154254Z
UID:45534-1780776000-1780786800@borealisonaurora.com
SUMMARY:Got 90s? + Rumor 6
DESCRIPTION:Doors 7pm | Show 8pm | 21+ \nTickets:• $10 (+ taxes & fees) – General Admission Advanced• $15 (+ taxes & fees) – Day of Show \nPurchase tickets on Eventbrite here. \nOne Night…Two Shows! \nSet 1- Got ‘90s? covers an impressive flashback of 90s nostalgia. The Cranberries\, No Doubt\, C+C Music Factory\, Nirvana\, Madonna\, House of Pain\, En Vogue\, Britney Spears\, Red Hot Chili Peppers\, Salt-N-Pepa\, Green Day\, Soul II Soul\, N2Deep\, Kylie Minogue\, Wheatus\, La Bouche\, Back Street Boys! To those unforgettable ’80s anthems that carried straight into the ’90s ~Guns N’ Roses\, AC/DC\, Bon Jovi\, and More!\nAfter a quick break\, we will take the stage as RUMOR 6! \nSet 2 -RUMOR 6 performs feel good top of the chart hits from the 70’s to now! All DANCE! Here’s a taste of their show. https://youtu.be/wnSlGiEwYSI
URL:https://borealisonaurora.com/event/got-90s-rumor-6/
LOCATION:Aurora Borealis Event Center\, 16708 Aurora Avenue North\, Shoreline\, WA\, 98133\, United States
CATEGORIES:90s,Live Entertainment,Live Music,Pop,rock
ATTACH;FMTTYPE=image/jpeg:https://borealisonaurora.com/wp-content/uploads/2026/04/Got-90s-Aurora-Borealis-scaled.jpg
END:VEVENT
BEGIN:VEVENT
DTSTART;TZID=America/Los_Angeles:20260613T200000
DTEND;TZID=America/Los_Angeles:20260613T230000
DTSTAMP:20260421T120615
CREATED:20260414T164427Z
LAST-MODIFIED:20260414T164428Z
UID:45560-1781380800-1781391600@borealisonaurora.com
SUMMARY:Prom Date Mixtape
DESCRIPTION:Doors 7pm | Show 8pm | 21+ \nTickets:• $14.50 (+ taxes & fees) – General Admission Advanced• $22 (+ taxes & fees) – Day of Show \nPurchase Tickets on Eventbrite here. \nProm Date Mixtape is the Ultimate Live 80s New Wave Experience! Recently named “The Greatest 80s Tribute Band in the Pacific Northwest” by KOMO TV 4’s Seattle Refined\, Prom Date Mixtape delivers the most authentic and energetic renditions of your favorite decade-defining new wave\, pop\, and rock tunes that you will ever hear. See firsthand why so many local clients consider them the definitive choice for 80s-themed events. \nWere you expecting great hair\, crazy fashions\, and larger-than-life personalities that practically fill a venue? Good\, because they don’t shy away from emulating anything that made the Eighties a golden era for live performance. Their act features powerful male and female lead vocalists\, authentic and searing guitar tones\, club shaking rhythm section\, dazzling lights\, and custom visuals. They transport their audience back to the time of MTV\, Friday Night Videos\, High School dances and clubs like Skoochies. \nAs a dedicated ’80s cover band\, they have an intense love for classic pop and rock music and hope their passion for their craft shines through in every performance. They are not a joke band adorning ridiculous costumes and wigs — in fact\, they’re far from it. They’re totally serious about what they do\, and they feel you’ll notice their conviction the moment they hit the stage!
URL:https://borealisonaurora.com/event/prom-date-mixtape-4/
LOCATION:Aurora Borealis Event Center\, 16708 Aurora Avenue North\, Shoreline\, WA\, 98133\, United States
CATEGORIES:80s,90s,Live Entertainment,Live Music,Pop,rock
ATTACH;FMTTYPE=image/png:https://borealisonaurora.com/wp-content/uploads/2026/04/6.13-Prom-Date-1.png
END:VEVENT
BEGIN:VEVENT
DTSTART;TZID=America/Los_Angeles:20260617T193000
DTEND;TZID=America/Los_Angeles:20260617T220000
DTSTAMP:20260421T120615
CREATED:20260414T165527Z
LAST-MODIFIED:20260414T165527Z
UID:45576-1781724600-1781733600@borealisonaurora.com
SUMMARY:Roadside Attraction
DESCRIPTION:Doors 6:30pm | Show 7:30pm \nCome see the most amazing display of musicianship ever witnessed on the face of the earth\, in the voids of space\, or through the sanctum of time and the cosmos.\nThe musicological treasures awaiting your discovery are so numerous\, so vast\, and epitomize the phrase “ad infinitum” so thoroughly\, a complete listing would simply overwhelm a normal\, healthy nervous system with anticipation and delight.\nThe confines of this brief document prohibit a full disclosure of our melodious\, musical menu (or “playlist” in musician-speak) painstakingly gathered from the four far-flung corners of the terpsichorean world: Jazz\, Blues\, Swing\, and Standards.\nSimply put\, dear patron\, be assured: No matter what style your heart desires\, what tempo taps your toes\, or what size ensemble you need to pack a room and fulfill your guests more secret aural longings\, you need only stop at Keith Baggerly’s Roadside Attraction! \nJust steer your car out to our Roadside Attraction if you like your Jazz burnin’ HOT! If your wanderlust is lusting for swingin’ action\, this is your destination spot.\nDuke Ellington\nCole Porter\nCount Basie\nDoc Severinsen\nHerbie Hancock\nStan Kento
URL:https://borealisonaurora.com/event/roadside-attraction-3/
LOCATION:Aurora Borealis Event Center\, 16708 Aurora Avenue North\, Shoreline\, WA\, 98133\, United States
CATEGORIES:Big Band,blues,Jazz,Live Entertainment,Live Music
ATTACH;FMTTYPE=image/png:https://borealisonaurora.com/wp-content/uploads/2026/04/6.17-Roadside.png
END:VEVENT
BEGIN:VEVENT
DTSTART;TZID=America/Los_Angeles:20260617T193000
DTEND;TZID=America/Los_Angeles:20260617T220000
DTSTAMP:20260421T120615
CREATED:20260414T170313Z
LAST-MODIFIED:20260414T170313Z
UID:45579-1781724600-1781733600@borealisonaurora.com
SUMMARY:North Sound Jazz
DESCRIPTION:Doors 6:30pm | Show 7:30pm\n\nNorth Sound Jazz is a talented\, 17-piece big band from the Puget Sound area\, that performs music from an abundance of jazz greats.
URL:https://borealisonaurora.com/event/north-sound-jazz/
LOCATION:WA
CATEGORIES:Big Band,Jazz,Live Entertainment,Live Music
ATTACH;FMTTYPE=image/png:https://borealisonaurora.com/wp-content/uploads/2026/04/6.24-NSJ.png
END:VEVENT
END:VCALENDAR