BEGIN:VCALENDAR
VERSION:2.0
PRODID:-//Aurora Borealis - Shoreline, WA - ECPv6.15.20//NONSGML v1.0//EN
CALSCALE:GREGORIAN
METHOD:PUBLISH
X-ORIGINAL-URL:https://borealisonaurora.com
X-WR-CALDESC:Events for Aurora Borealis - Shoreline, WA
REFRESH-INTERVAL;VALUE=DURATION:PT1H
X-Robots-Tag:noindex
X-PUBLISHED-TTL:PT1H
BEGIN:VTIMEZONE
TZID:America/Los_Angeles
BEGIN:DAYLIGHT
TZOFFSETFROM:-0800
TZOFFSETTO:-0700
TZNAME:PDT
DTSTART:20250309T100000
END:DAYLIGHT
BEGIN:STANDARD
TZOFFSETFROM:-0700
TZOFFSETTO:-0800
TZNAME:PST
DTSTART:20251102T090000
END:STANDARD
BEGIN:DAYLIGHT
TZOFFSETFROM:-0800
TZOFFSETTO:-0700
TZNAME:PDT
DTSTART:20260308T100000
END:DAYLIGHT
BEGIN:STANDARD
TZOFFSETFROM:-0700
TZOFFSETTO:-0800
TZNAME:PST
DTSTART:20261101T090000
END:STANDARD
BEGIN:DAYLIGHT
TZOFFSETFROM:-0800
TZOFFSETTO:-0700
TZNAME:PDT
DTSTART:20270314T100000
END:DAYLIGHT
BEGIN:STANDARD
TZOFFSETFROM:-0700
TZOFFSETTO:-0800
TZNAME:PST
DTSTART:20271107T090000
END:STANDARD
END:VTIMEZONE
BEGIN:VEVENT
DTSTART;TZID=America/Los_Angeles:20260617T193000
DTEND;TZID=America/Los_Angeles:20260617T220000
DTSTAMP:20260421T085324
CREATED:20260414T165527Z
LAST-MODIFIED:20260414T165527Z
UID:45576-1781724600-1781733600@borealisonaurora.com
SUMMARY:Roadside Attraction
DESCRIPTION:Doors 6:30pm | Show 7:30pm \nCome see the most amazing display of musicianship ever witnessed on the face of the earth\, in the voids of space\, or through the sanctum of time and the cosmos.\nThe musicological treasures awaiting your discovery are so numerous\, so vast\, and epitomize the phrase “ad infinitum” so thoroughly\, a complete listing would simply overwhelm a normal\, healthy nervous system with anticipation and delight.\nThe confines of this brief document prohibit a full disclosure of our melodious\, musical menu (or “playlist” in musician-speak) painstakingly gathered from the four far-flung corners of the terpsichorean world: Jazz\, Blues\, Swing\, and Standards.\nSimply put\, dear patron\, be assured: No matter what style your heart desires\, what tempo taps your toes\, or what size ensemble you need to pack a room and fulfill your guests more secret aural longings\, you need only stop at Keith Baggerly’s Roadside Attraction! \nJust steer your car out to our Roadside Attraction if you like your Jazz burnin’ HOT! If your wanderlust is lusting for swingin’ action\, this is your destination spot.\nDuke Ellington\nCole Porter\nCount Basie\nDoc Severinsen\nHerbie Hancock\nStan Kento
URL:https://borealisonaurora.com/event/roadside-attraction-3/
LOCATION:Aurora Borealis Event Center\, 16708 Aurora Avenue North\, Shoreline\, WA\, 98133\, United States
CATEGORIES:Big Band,blues,Jazz,Live Entertainment,Live Music
ATTACH;FMTTYPE=image/png:https://borealisonaurora.com/wp-content/uploads/2026/04/6.17-Roadside.png
END:VEVENT
BEGIN:VEVENT
DTSTART;TZID=America/Los_Angeles:20260617T193000
DTEND;TZID=America/Los_Angeles:20260617T220000
DTSTAMP:20260421T085324
CREATED:20260414T170313Z
LAST-MODIFIED:20260414T170313Z
UID:45579-1781724600-1781733600@borealisonaurora.com
SUMMARY:North Sound Jazz
DESCRIPTION:Doors 6:30pm | Show 7:30pm\n\nNorth Sound Jazz is a talented\, 17-piece big band from the Puget Sound area\, that performs music from an abundance of jazz greats.
URL:https://borealisonaurora.com/event/north-sound-jazz/
LOCATION:WA
CATEGORIES:Big Band,Jazz,Live Entertainment,Live Music
ATTACH;FMTTYPE=image/png:https://borealisonaurora.com/wp-content/uploads/2026/04/6.24-NSJ.png
END:VEVENT
END:VCALENDAR