BEGIN:VCALENDAR
VERSION:2.0
PRODID:-//Aurora Borealis - Shoreline, WA - ECPv6.15.20//NONSGML v1.0//EN
CALSCALE:GREGORIAN
METHOD:PUBLISH
X-ORIGINAL-URL:https://borealisonaurora.com
X-WR-CALDESC:Events for Aurora Borealis - Shoreline, WA
REFRESH-INTERVAL;VALUE=DURATION:PT1H
X-Robots-Tag:noindex
X-PUBLISHED-TTL:PT1H
BEGIN:VTIMEZONE
TZID:America/Los_Angeles
BEGIN:DAYLIGHT
TZOFFSETFROM:-0800
TZOFFSETTO:-0700
TZNAME:PDT
DTSTART:20250309T100000
END:DAYLIGHT
BEGIN:STANDARD
TZOFFSETFROM:-0700
TZOFFSETTO:-0800
TZNAME:PST
DTSTART:20251102T090000
END:STANDARD
BEGIN:DAYLIGHT
TZOFFSETFROM:-0800
TZOFFSETTO:-0700
TZNAME:PDT
DTSTART:20260308T100000
END:DAYLIGHT
BEGIN:STANDARD
TZOFFSETFROM:-0700
TZOFFSETTO:-0800
TZNAME:PST
DTSTART:20261101T090000
END:STANDARD
BEGIN:DAYLIGHT
TZOFFSETFROM:-0800
TZOFFSETTO:-0700
TZNAME:PDT
DTSTART:20270314T100000
END:DAYLIGHT
BEGIN:STANDARD
TZOFFSETFROM:-0700
TZOFFSETTO:-0800
TZNAME:PST
DTSTART:20271107T090000
END:STANDARD
END:VTIMEZONE
BEGIN:VEVENT
DTSTART;TZID=America/Los_Angeles:20260522T200000
DTEND;TZID=America/Los_Angeles:20260522T230000
DTSTAMP:20260421T101542
CREATED:20260320T151117Z
LAST-MODIFIED:20260320T151348Z
UID:45426-1779480000-1779490800@borealisonaurora.com
SUMMARY:One Island Drop
DESCRIPTION:Doors 7pm | Show 8pm | 21+ \nTickets:• $10 (+ taxes & fees) – General Admission Advanced• $15 (+ taxes & fees) – Day of Show \nPurchase Tickets on Eventbrite here. \nFrom originals to covers\, they play island-style Roots Rock Reggae. A lil bit of Marley\, a lil bit of music from Hawaii\, they keep you skanking to the groove!
URL:https://borealisonaurora.com/event/one-island-drop/
LOCATION:Aurora Borealis Event Center\, 16708 Aurora Avenue North\, Shoreline\, WA\, 98133\, United States
CATEGORIES:Live Entertainment,Live Music,Reggae,Roots
ATTACH;FMTTYPE=image/png:https://borealisonaurora.com/wp-content/uploads/2026/03/5.22-One-Island.png
END:VEVENT
END:VCALENDAR